BEGIN:VCALENDAR
VERSION:2.0
PRODID:-//Südstadt Liebe - ECPv6.15.20//NONSGML v1.0//EN
CALSCALE:GREGORIAN
METHOD:PUBLISH
X-ORIGINAL-URL:https://suedstadt-liebe.de
X-WR-CALDESC:Veranstaltungen für Südstadt Liebe
REFRESH-INTERVAL;VALUE=DURATION:PT1H
X-Robots-Tag:noindex
X-PUBLISHED-TTL:PT1H
BEGIN:VTIMEZONE
TZID:Europe/Berlin
BEGIN:DAYLIGHT
TZOFFSETFROM:+0100
TZOFFSETTO:+0200
TZNAME:CEST
DTSTART:20230326T010000
END:DAYLIGHT
BEGIN:STANDARD
TZOFFSETFROM:+0200
TZOFFSETTO:+0100
TZNAME:CET
DTSTART:20231029T010000
END:STANDARD
BEGIN:DAYLIGHT
TZOFFSETFROM:+0100
TZOFFSETTO:+0200
TZNAME:CEST
DTSTART:20240331T010000
END:DAYLIGHT
BEGIN:STANDARD
TZOFFSETFROM:+0200
TZOFFSETTO:+0100
TZNAME:CET
DTSTART:20241027T010000
END:STANDARD
BEGIN:DAYLIGHT
TZOFFSETFROM:+0100
TZOFFSETTO:+0200
TZNAME:CEST
DTSTART:20250330T010000
END:DAYLIGHT
BEGIN:STANDARD
TZOFFSETFROM:+0200
TZOFFSETTO:+0100
TZNAME:CET
DTSTART:20251026T010000
END:STANDARD
END:VTIMEZONE
BEGIN:VEVENT
DTSTART;TZID=Europe/Berlin:20241111T183000
DTEND;TZID=Europe/Berlin:20241111T210000
DTSTAMP:20260422T153547
CREATED:20240625T222131Z
LAST-MODIFIED:20241014T175309Z
UID:10000012-1731349800-1731358800@suedstadt-liebe.de
SUMMARY:Martinsgansessen - ANMELDUNG ERFORDERLICH
DESCRIPTION:
URL:https://suedstadt-liebe.de/termin/martinsgansessen/
LOCATION:Pinocchio\, Holzer Str. 39\, Wuppertal\, 42119
END:VEVENT
BEGIN:VEVENT
DTSTART;TZID=Europe/Berlin:20240908T130000
DTEND;TZID=Europe/Berlin:20240908T183000
DTSTAMP:20260422T153547
CREATED:20240625T221407Z
LAST-MODIFIED:20240625T222411Z
UID:10000013-1725800400-1725820200@suedstadt-liebe.de
SUMMARY:Nachbarschaftsfest
DESCRIPTION:Am 08.09.2024 findet wieder das allseits beliebte Nachbarschaftsfest in der Bör- se statt. Wir wollen die Nachbarlichkeit zwischen Hesselnberg und Elberfelder Südstadt weiterbringen.
URL:https://suedstadt-liebe.de/termin/nachbarschaftsfest/
LOCATION:börse Kommunikationszentrum Wuppertal\, Wolkenburg 100\, Wuppertal\, 42119
END:VEVENT
BEGIN:VEVENT
DTSTART;TZID=Europe/Berlin:20240815T160000
DTEND;TZID=Europe/Berlin:20240815T183000
DTSTAMP:20260422T153547
CREATED:20240625T150147Z
LAST-MODIFIED:20240625T214423Z
UID:10000001-1723737600-1723746600@suedstadt-liebe.de
SUMMARY:Nicht viel zu sehen - ANMELDUNG ERFORDERLICH
DESCRIPTION:Wege der Abstraktion 1920 bis heute. \nDas Von der Heydt-Museum präsentiert eine neue Ausstellung zur Abstraktion\, die von der klassischen Moderne bis zur heutigen ungegenständlichen Malerei reicht. Hauptwerke bekannter Künstler und bisher verborgene Schätze werden gezeigt\, darunter viele Neuerwerbungen. Die Ausstellung\, benannt nach Jean Fautriers Bild „Not much to look at“ (1959)\, beleuchtet die Wechselbeziehungen zwischen figurativer und abstrakter Kunst. Werke von Künstlern wie Max Ernst und Pius Fox\, sowie Paul Klee und Wassily Kandinsky zeigen\, dass abstrakte Malerei über die reine Darstellung hinausgeht\, indem sie innere Erlebnisse und formale Elemente in den Vordergrund stellt.
URL:https://suedstadt-liebe.de/termin/nicht-viel-zu-sehen/
LOCATION:Von der Heydt-Museum\, Turmhof 8\, Wuppertal\, 42103
END:VEVENT
END:VCALENDAR