BEGIN:VCALENDAR
VERSION:2.0
PRODID:-//Südstadt Liebe - ECPv6.15.20//NONSGML v1.0//EN
CALSCALE:GREGORIAN
METHOD:PUBLISH
X-WR-CALNAME:Südstadt Liebe
X-ORIGINAL-URL:https://suedstadt-liebe.de
X-WR-CALDESC:Veranstaltungen für Südstadt Liebe
REFRESH-INTERVAL;VALUE=DURATION:PT1H
X-Robots-Tag:noindex
X-PUBLISHED-TTL:PT1H
BEGIN:VTIMEZONE
TZID:Europe/Berlin
BEGIN:DAYLIGHT
TZOFFSETFROM:+0100
TZOFFSETTO:+0200
TZNAME:CEST
DTSTART:20250330T010000
END:DAYLIGHT
BEGIN:STANDARD
TZOFFSETFROM:+0200
TZOFFSETTO:+0100
TZNAME:CET
DTSTART:20251026T010000
END:STANDARD
BEGIN:DAYLIGHT
TZOFFSETFROM:+0100
TZOFFSETTO:+0200
TZNAME:CEST
DTSTART:20260329T010000
END:DAYLIGHT
BEGIN:STANDARD
TZOFFSETFROM:+0200
TZOFFSETTO:+0100
TZNAME:CET
DTSTART:20261025T010000
END:STANDARD
BEGIN:DAYLIGHT
TZOFFSETFROM:+0100
TZOFFSETTO:+0200
TZNAME:CEST
DTSTART:20270328T010000
END:DAYLIGHT
BEGIN:STANDARD
TZOFFSETFROM:+0200
TZOFFSETTO:+0100
TZNAME:CET
DTSTART:20271031T010000
END:STANDARD
END:VTIMEZONE
BEGIN:VEVENT
DTSTART;TZID=Europe/Berlin:20260721T160000
DTEND;TZID=Europe/Berlin:20260721T183000
DTSTAMP:20260423T005304
CREATED:20240625T215130Z
LAST-MODIFIED:20260411T121227Z
UID:10000103-1784649600-1784658600@suedstadt-liebe.de
SUMMARY:Quatsch Treff
DESCRIPTION:Mit dem Quatsch-Treff hat der Bürgerverein seit Mai 2023 einen einladenden Ort geschaffen\, an dem sich Mitglieder und Gäste regelmäßig treffen und miteinander in Kontakt kommen können. Dieser Treffpunkt bietet allen Interessierten die Möglichkeit\, in entspannter Atmosphäre neue Bekanntschaften zu schließen\, sich auszutauschen und gemeinsame Interessen zu entdecken. \nDer Quatsch-Treff fördert nicht nur das Gemeinschaftsgefühl\, sondern stärkt auch die sozialen Bindungen innerhalb des Vereins und der gesamten Nachbarschaft.
URL:https://suedstadt-liebe.de/termin/quatsch-treff/2026-07-21/
LOCATION:Netzwerkcafé der Pusteblume\, Ecke Blankstr./Augustastr.\, Wuppertal\, 42119
END:VEVENT
BEGIN:VEVENT
DTSTART;TZID=Europe/Berlin:20260726T150000
DTEND;TZID=Europe/Berlin:20260726T170000
DTSTAMP:20260423T005304
CREATED:20240625T153412Z
LAST-MODIFIED:20260129T173027Z
UID:10000161-1785078000-1785085200@suedstadt-liebe.de
SUMMARY:Park Café am Uellenberg
DESCRIPTION:Wir treffen uns wieder jeden vierten Sonntag im Monat von ca. 15:00 bis 17:00 Uhr im Park und freuen uns\, wie im letzten Jahr\, auf zahlreiche gut gelaunte Besucher. \nJeder ist herzlich eingeladen\, mitzumachen und zum Beispiel Kuchen\, Getränke\, Stühle usw. mitzubringen.
URL:https://suedstadt-liebe.de/termin/park-cafe-am-uellenberg/2026-07-26/
LOCATION:Uellenberg Park\, Am Uellenberg\, Wuppertal\, 42119
END:VEVENT
END:VCALENDAR