BEGIN:VCALENDAR
VERSION:2.0
PRODID:-//Südstadt Liebe - ECPv6.15.20//NONSGML v1.0//EN
CALSCALE:GREGORIAN
METHOD:PUBLISH
X-ORIGINAL-URL:https://suedstadt-liebe.de
X-WR-CALDESC:Veranstaltungen für Südstadt Liebe
REFRESH-INTERVAL;VALUE=DURATION:PT1H
X-Robots-Tag:noindex
X-PUBLISHED-TTL:PT1H
BEGIN:VTIMEZONE
TZID:Europe/Berlin
BEGIN:DAYLIGHT
TZOFFSETFROM:+0100
TZOFFSETTO:+0200
TZNAME:CEST
DTSTART:20240331T010000
END:DAYLIGHT
BEGIN:STANDARD
TZOFFSETFROM:+0200
TZOFFSETTO:+0100
TZNAME:CET
DTSTART:20241027T010000
END:STANDARD
BEGIN:DAYLIGHT
TZOFFSETFROM:+0100
TZOFFSETTO:+0200
TZNAME:CEST
DTSTART:20250330T010000
END:DAYLIGHT
BEGIN:STANDARD
TZOFFSETFROM:+0200
TZOFFSETTO:+0100
TZNAME:CET
DTSTART:20251026T010000
END:STANDARD
BEGIN:DAYLIGHT
TZOFFSETFROM:+0100
TZOFFSETTO:+0200
TZNAME:CEST
DTSTART:20260329T010000
END:DAYLIGHT
BEGIN:STANDARD
TZOFFSETFROM:+0200
TZOFFSETTO:+0100
TZNAME:CET
DTSTART:20261025T010000
END:STANDARD
END:VTIMEZONE
BEGIN:VEVENT
DTSTART;TZID=Europe/Berlin:20251026T150000
DTEND;TZID=Europe/Berlin:20251026T170000
DTSTAMP:20260423T080422
CREATED:20251002T110924Z
LAST-MODIFIED:20251002T111326Z
UID:10000094-1761490800-1761498000@suedstadt-liebe.de
SUMMARY:Wandertag des Bürgervereins über die Königshöhe
DESCRIPTION:Einladung zur Herbstwanderung mit anschließendem Kaffeetrinken \nLiebe Mitglieder\, sehr geehrte Damen und Herren\, \nwir laden Sie herzlich ein\, gemeinsam mit uns einen herbstlichen Spaziergang zu unternehmen. Unsere nächste Wanderung findet am Sonntag\, den 26. Oktober 2025\, statt. Treffpunkt ist ab 15:00 Uhr an der Bushaltestelle Zeppelinallee (Linie 613). \nIm Anschluss lassen wir den Nachmittag bei einem gemütlichen Kaffeetrinken im Landhaus Honigstal ausklingen. \nBitte geben Sie uns Bescheid\, ob Sie teilnehmen möchten:Michael Dickmann\, Telefon: 0171 / 20 46 975 (jederzeit erreichbar) oder per E-Mail an: mi.dickmann@t-online.de \nWir freuen uns auf Ihre Rückmeldung und auf einen schönen gemeinsamen Tag! \nMit freundlichen GrüßenIhr Bürgerverein der Elberfelder Südstadt e.V.
URL:https://suedstadt-liebe.de/termin/wandertag-des-buergervereins-ueber-die-koenigshoehe/
END:VEVENT
END:VCALENDAR