BEGIN:VCALENDAR
VERSION:2.0
PRODID:-//Südstadt Liebe - ECPv6.15.20//NONSGML v1.0//EN
CALSCALE:GREGORIAN
METHOD:PUBLISH
X-ORIGINAL-URL:https://suedstadt-liebe.de
X-WR-CALDESC:Veranstaltungen für Südstadt Liebe
REFRESH-INTERVAL;VALUE=DURATION:PT1H
X-Robots-Tag:noindex
X-PUBLISHED-TTL:PT1H
BEGIN:VTIMEZONE
TZID:Europe/Berlin
BEGIN:DAYLIGHT
TZOFFSETFROM:+0100
TZOFFSETTO:+0200
TZNAME:CEST
DTSTART:20240331T010000
END:DAYLIGHT
BEGIN:STANDARD
TZOFFSETFROM:+0200
TZOFFSETTO:+0100
TZNAME:CET
DTSTART:20241027T010000
END:STANDARD
BEGIN:DAYLIGHT
TZOFFSETFROM:+0100
TZOFFSETTO:+0200
TZNAME:CEST
DTSTART:20250330T010000
END:DAYLIGHT
BEGIN:STANDARD
TZOFFSETFROM:+0200
TZOFFSETTO:+0100
TZNAME:CET
DTSTART:20251026T010000
END:STANDARD
BEGIN:DAYLIGHT
TZOFFSETFROM:+0100
TZOFFSETTO:+0200
TZNAME:CEST
DTSTART:20260329T010000
END:DAYLIGHT
BEGIN:STANDARD
TZOFFSETFROM:+0200
TZOFFSETTO:+0100
TZNAME:CET
DTSTART:20261025T010000
END:STANDARD
END:VTIMEZONE
BEGIN:VEVENT
DTSTART;TZID=Europe/Berlin:20250920T090000
DTEND;TZID=Europe/Berlin:20250920T120000
DTSTAMP:20260423T113723
CREATED:20250825T172505Z
LAST-MODIFIED:20250825T172505Z
UID:10000066-1758358800-1758369600@suedstadt-liebe.de
SUMMARY:Talputz
DESCRIPTION:Liebe Wuppertalerinnen und Wuppertaler\,  \nder Talputz jährt sich zum 4. Mal. Ich freue mich\, mit Ihnen in diesem Jahr wieder gemeinsam die beliebte Reinigungsaktion durchzuführen und lade Sie hiermit herzlich zum 4. Talputz ein.  \nAuf geht’s! Machen Sie mit am 20. September 2025!  \nSchulen\, Kindergärten\, Vereine\, Kirchengemeinden\, Bürgervereine und -initiativen\, aber auch Familien und Einzelpersonen oder kurz gesagt alle\, denen unsere Stadt am Herzen liegt\, sind herzlich eingeladen. Eine Anmeldung ist nicht erforderlich.\nKommen Sie am 20. September einfach zu einer Materialausgabe in Ihrer Nähe. Die Ausgabestellen finden Sie unterhalb dieser Einladung oder auf www.wuppertal.de/talputz.  \nDie Teilnehmenden werden wie in der Vergangenheit von der Stadt\, dem Eigenbetrieb Straßenreinigung Wuppertal (ESW)\, der AWG Abfallwirtschaftsgesellschaft mbH und anderen Organisationen nach Kräften unter-stützt.\nAusrüstungsgegenstände\, wie Handschuhe und Müllsäcke werden zur Verfügung gestellt und auch für den Abtransport des gesammelten Unrats wird Sorge getragen.  \nIch freue mich\, Ihnen mitteilen zu können\, dass es für alle Helferinnen und Helfer auch wieder ein kleines „Dankeschön“ geben wird.  \nNeben dem Talputz-Tag möchte ich Sie auch auf die Aktion „365 Tage Pi-cobello“ aufmerksam machen:  \nAlle Wuppertalerinnen und Wuppertaler\, alle Schulen\, alle Kindergärten\, alle Vereine kön-nen eine Patenschaft für ein bestimmtes Gebiet übernehmen und an einem oder mehre-ren (selbstgewählten) Terminen „ihren“ Picobello-Tag durchführen. Auch diese Aktionen werden natürlich von der Stadt unterstützt. Ich würde mich freuen\, wenn sich auch hierfür viele Interessenten fänden. Zu den Unterstützungsmöglichkeiten berät Sie gern Claudia Wolthoff von der städtischen Umweltberatung (0202-563/5920 oder picobello@stadt.wuppertal.de).  \nIch freue mich über die vielen Engagierten in dieser Stadt\, die diese Stadt so lebenswert machen!  \nHerzlichen Dank!\nUwe Schneidewind  \n  \nMaterialausgaben und Müllsammelstellen:\nBeyenburg: Ausgabe: Parkplatz Porta Westfalica Abholstellen: Remlingrader Brücke\, Beyenburger Furth\, Brücke Kemmna\nLangerfeld: Ausgabe- und Abholstelle: Langerfelder Markt\nBarmen: Ausgabe: Rathaus Vorplatz Abholstellen: Berliner Platz\, Wichlinghauser Markt\, JuniorUni\nElberfeld: Ausgabe: Kluse Abholstellen: Ohligsmühle\, Deweerthscher Garten\, Pestalozzistraße (Schwebebahnhof)\nSonnborn: Ausgabe: Stadion/Zoo Abholstellen: Rutenbecker Weg (Bayer Sporthalle)\, Sonnborner Straße (Wendehammer)\nVohwinkel: Ausgabe: Lienhardtplatz Abholstellen: Dasnöckel-Mitte (Wertstoffsammlung)\nRonsdorf: Ausgabe: Bandwirkerplatz Abholstellen: Am Stadtbahnhof\, Parkstraße (Wertstoffsammlung)\nCronenberg: Ausgabe: Rathausplatz Abholstellen: Schulzentrum Süd\, Sudberg (Buswendeplatz Haus Schnee) \, Wupperbrücke Kohlfurth 
URL:https://suedstadt-liebe.de/termin/talputz/
END:VEVENT
END:VCALENDAR