BEGIN:VCALENDAR
VERSION:2.0
PRODID:-//Südstadt Liebe - ECPv6.15.20//NONSGML v1.0//EN
CALSCALE:GREGORIAN
METHOD:PUBLISH
X-WR-CALNAME:Südstadt Liebe
X-ORIGINAL-URL:https://suedstadt-liebe.de
X-WR-CALDESC:Veranstaltungen für Südstadt Liebe
REFRESH-INTERVAL;VALUE=DURATION:PT1H
X-Robots-Tag:noindex
X-PUBLISHED-TTL:PT1H
BEGIN:VTIMEZONE
TZID:Europe/Berlin
BEGIN:DAYLIGHT
TZOFFSETFROM:+0100
TZOFFSETTO:+0200
TZNAME:CEST
DTSTART:20250330T010000
END:DAYLIGHT
BEGIN:STANDARD
TZOFFSETFROM:+0200
TZOFFSETTO:+0100
TZNAME:CET
DTSTART:20251026T010000
END:STANDARD
BEGIN:DAYLIGHT
TZOFFSETFROM:+0100
TZOFFSETTO:+0200
TZNAME:CEST
DTSTART:20260329T010000
END:DAYLIGHT
BEGIN:STANDARD
TZOFFSETFROM:+0200
TZOFFSETTO:+0100
TZNAME:CET
DTSTART:20261025T010000
END:STANDARD
BEGIN:DAYLIGHT
TZOFFSETFROM:+0100
TZOFFSETTO:+0200
TZNAME:CEST
DTSTART:20270328T010000
END:DAYLIGHT
BEGIN:STANDARD
TZOFFSETFROM:+0200
TZOFFSETTO:+0100
TZNAME:CET
DTSTART:20271031T010000
END:STANDARD
END:VTIMEZONE
BEGIN:VEVENT
DTSTART;TZID=Europe/Berlin:20260317T160000
DTEND;TZID=Europe/Berlin:20260317T183000
DTSTAMP:20260422T134318
CREATED:20240625T215130Z
LAST-MODIFIED:20260411T121227Z
UID:10000099-1773763200-1773772200@suedstadt-liebe.de
SUMMARY:Quatsch Treff
DESCRIPTION:Mit dem Quatsch-Treff hat der Bürgerverein seit Mai 2023 einen einladenden Ort geschaffen\, an dem sich Mitglieder und Gäste regelmäßig treffen und miteinander in Kontakt kommen können. Dieser Treffpunkt bietet allen Interessierten die Möglichkeit\, in entspannter Atmosphäre neue Bekanntschaften zu schließen\, sich auszutauschen und gemeinsame Interessen zu entdecken. \nDer Quatsch-Treff fördert nicht nur das Gemeinschaftsgefühl\, sondern stärkt auch die sozialen Bindungen innerhalb des Vereins und der gesamten Nachbarschaft.
URL:https://suedstadt-liebe.de/termin/quatsch-treff/2026-03-17/
LOCATION:Netzwerkcafé der Pusteblume\, Ecke Blankstr./Augustastr.\, Wuppertal\, 42119
END:VEVENT
BEGIN:VEVENT
DTSTART;TZID=Europe/Berlin:20260321T140000
DTEND;TZID=Europe/Berlin:20260321T160000
DTSTAMP:20260422T134318
CREATED:20250322T115107Z
LAST-MODIFIED:20260222T172231Z
UID:10000062-1774101600-1774108800@suedstadt-liebe.de
SUMMARY:Kindersachenflohmarkt in der Johanneskirche
DESCRIPTION:Viele Jahre sehr beliebt und nun findet er wieder statt:\nKindersachenflohmarkt in der Johanneskirche\nAltenberger Str. 25\n42119 Wuppertal \nAm Samstag den 21. März 2026 von 14:00 – 16:00  Uhr\, mit Kaffee und Kuchen. \nAnmeldung unter 0202 2998176. \nGebühr 5 Euro pro Tisch und jeweils eine Kuchenspende.
URL:https://suedstadt-liebe.de/termin/kindersachenflohmarkt-in-der-johanneskirche/
END:VEVENT
BEGIN:VEVENT
DTSTART;TZID=Europe/Berlin:20260323T183000
DTEND;TZID=Europe/Berlin:20260323T203000
DTSTAMP:20260422T134318
CREATED:20250225T104739Z
LAST-MODIFIED:20260304T142201Z
UID:10000058-1774290600-1774297800@suedstadt-liebe.de
SUMMARY:Jahreshauptversammlung des Bürgervereins der Elberfelder Südstadt e.V.
DESCRIPTION:Einladung zur Jahreshauptversammlung 2026\nLiebe Mitglieder\, sehr geehrte Damen und Herren\, liebe Medienvertreter*innen\, \ngerne laden wir Sie Satzungs- und fristgerecht zu unserer Jahreshauptversammlung für das Geschäftsjahr 2025 ein. Sie findet statt am 23.03.2026\, 18.30 Uhr in den bewährten Räumlichkeiten der Kirche an der Uni (vormals Evangelische Studierendengemeinde)\, Oberer Grifflenberg / Ecke Gaußstr.\, Eingang Gaußstr. 4\, 42119 Wuppertal. \nSie erreichen den Tagungsort mit den OL 615 und 645\, 625 unweit. \nTagesordnung \n\nBegrüßung und Feststellung der Stimmberechtigten sowie der Beschlussfähigkeit\,\nEhrung der verstorbenen und Begrüßung der neuen Mitglieder\nVerlesung des Protokolls der letzten Jahreshauptversammlung vom 22.03.2025\nBericht des 2. Vorsitzenden in Vertretung des verstorbenen 1. Vorsitzenden\nBericht der Schatzmeisterin\,\nBericht der Kassenprüfer\,\nEntlastung a) der Schatzmeisterin\, b) des gesamten Vorstandes\,\nWahlen zum Vorstand\,\n\n\nZu wählen sind: 1. Vorsitzender\,  (bisheriger Amtsinhaber verstorben)\nVorsitzender\nSchriftführer*in\nSchatzmeister*in\nZu bestätigen sind drei Beisitzende\n\n\nWahl eines Kassenprüfers\,\nAnträge müssen gemäss §7 Abs. 4 der Satzung spätestens 8 Tage vor der JHV beim 2. Vorsitzenden vorliegen.\nVerschiedenes\nReferat von Herrn Dr. Stefan Kühn zu den Murals in Wuppertal\nGemeinsamer Austausch bei Schnittchen und Getränken\n\nMit freundlichen Grüßen \nIhr Bürgerverein der Elberfelder Südstadt e.V. \nJohannes Schlottner\n– 2. Vorsitzender –
URL:https://suedstadt-liebe.de/termin/jahreshauptversammlung-des-buergervereins-der-elberfelder-suedstadt-e-v/
END:VEVENT
BEGIN:VEVENT
DTSTART;TZID=Europe/Berlin:20260329T150000
DTEND;TZID=Europe/Berlin:20260329T180000
DTSTAMP:20260422T134318
CREATED:20260304T142729Z
LAST-MODIFIED:20260304T142729Z
UID:10000164-1774796400-1774807200@suedstadt-liebe.de
SUMMARY:Wanderung zur Station Natur und Umwelt
DESCRIPTION:Liebe Mitglieder\, sehr geehrte Damen und Herren\, \nwir laden Sie wieder herzlich ein\, gemeinsam mit uns einen frühlingsfrohen Spaziergang zu unternehmen.\nUnsere nächste Wanderung findet statt am Sonntag\, den 29.3.2026. \nTreffpunkt ist an der Bushaltestelle Friedenshain\, Linie 625\, 630 nahe der Johanneskirche um 15.00 Uhr Sommerzeit (Achtung! Zeitumstellung beachten) \nWir laufen ein wenig durch das frische Grün Richtung Hahnerberg/Station Natur und Umfeld und Sambatrasse. Im Anschluss lassen wir den Nachmittag bei einem gemütlichen Kaffeetrinken im Cafe Podzelny\, Cronenfeld ausklingen.\nDie dortigen Kosten übernimmt der Bürgerverein. \nWährend der Wanderung gibt es evtl. kurze literarische Pausen. \nBitte geben Sie uns Bescheid\, ob Sie teilnehmen möchten:\nJohannes Schlottner 0160 98 75 59 59 (jederzeit) oder info@suedstadt-liebe.de \nWir freuen uns auf Ihre Rückmeldung und auf einen schönen gemeinsamen Nachmittag! \nMit freundlichen Grüßen \nIhr Bürgerverein der Elberfelder Südstadt e.V.\nJohannes Schlottner\n– 2. Vorsitzender –
URL:https://suedstadt-liebe.de/termin/wanderung-zur-station-natur-und-umwelt/
END:VEVENT
END:VCALENDAR