BEGIN:VCALENDAR
VERSION:2.0
PRODID:-//Südstadt Liebe - ECPv6.15.20//NONSGML v1.0//EN
CALSCALE:GREGORIAN
METHOD:PUBLISH
X-WR-CALNAME:Südstadt Liebe
X-ORIGINAL-URL:https://suedstadt-liebe.de
X-WR-CALDESC:Veranstaltungen für Südstadt Liebe
REFRESH-INTERVAL;VALUE=DURATION:PT1H
X-Robots-Tag:noindex
X-PUBLISHED-TTL:PT1H
BEGIN:VTIMEZONE
TZID:Europe/Berlin
BEGIN:DAYLIGHT
TZOFFSETFROM:+0100
TZOFFSETTO:+0200
TZNAME:CEST
DTSTART:20240331T010000
END:DAYLIGHT
BEGIN:STANDARD
TZOFFSETFROM:+0200
TZOFFSETTO:+0100
TZNAME:CET
DTSTART:20241027T010000
END:STANDARD
BEGIN:DAYLIGHT
TZOFFSETFROM:+0100
TZOFFSETTO:+0200
TZNAME:CEST
DTSTART:20250330T010000
END:DAYLIGHT
BEGIN:STANDARD
TZOFFSETFROM:+0200
TZOFFSETTO:+0100
TZNAME:CET
DTSTART:20251026T010000
END:STANDARD
BEGIN:DAYLIGHT
TZOFFSETFROM:+0100
TZOFFSETTO:+0200
TZNAME:CEST
DTSTART:20260329T010000
END:DAYLIGHT
BEGIN:STANDARD
TZOFFSETFROM:+0200
TZOFFSETTO:+0100
TZNAME:CET
DTSTART:20261025T010000
END:STANDARD
END:VTIMEZONE
BEGIN:VEVENT
DTSTART;TZID=Europe/Berlin:20251109T120000
DTEND;TZID=Europe/Berlin:20251109T170000
DTSTAMP:20260423T042708
CREATED:20251002T105030Z
LAST-MODIFIED:20251002T105030Z
UID:10000093-1762689600-1762707600@suedstadt-liebe.de
SUMMARY:Weihnachtsbuchausstellung 2025
DESCRIPTION:Herzliche Einladung zur Weihnachtsbuchausstellung der KÖB St. Suitbertus in Zusammenarbeit mit der Buchhandlung „Laurenz und Luise“ am \nSonntag\, den 9. November 2025\nvon 12:00–17:00 Uhr\n im Pfarrsaal von St. Suitbertus\, Chlodwigstrasse 27 \nIn gemütlicher Atmosphäre mit Lauchsuppe\, Kuchen und Kaffee haben Sie die Gelegenheit\, in aller Ruhe für sich oder ihre Lieben\, Medien auszusuchen und auch zu bestellen. \nDas Büchereiteam\nKath.öffentliche Bücherei St. Suitbertus
URL:https://suedstadt-liebe.de/termin/weihnachtsbuchausstellung-2025/
LOCATION:St. Suitbertus\, Chlodwigstraße 27\, Wuppertal\, 42119
END:VEVENT
BEGIN:VEVENT
DTSTART;TZID=Europe/Berlin:20251115T120000
DTEND;TZID=Europe/Berlin:20251115T140000
DTSTAMP:20260423T042708
CREATED:20251028T184521Z
LAST-MODIFIED:20260411T114204Z
UID:10000095-1763208000-1763215200@suedstadt-liebe.de
SUMMARY:Boule im Uellenberg-Park
DESCRIPTION:Wusstet ihr\, dass man auf der Promenade unseres kleinen Südstadt-Park-Idylls ganz wunderbar Boule spielen kann? Das gesellige Spiel stammt aus Frankreich und ist dort fester Bestandteil des Lebens auf jedem Marktplatz oder in jedem Park – und jetzt auch bei uns! \nBeim Boule (oder „Pétanque“\, wie es in Frankreich heißt) geht es darum\, metallene Kugeln möglichst nah an eine kleine Zielkugel – das „Schweinchen“ – zu werfen. Gespielt wird meist in kleinen Teams\, und schon nach ein paar Würfen merkt man: Es kommt nicht auf Kraft an\, sondern auf Gefühl\, Konzentration – und natürlich auf Spaß in der Runde. \nWer Lust hat\, kann einfach reinschnuppern – die Regeln sind schnell erklärt\, und man lernt sie am besten beim Spielen. \nWir laden euch herzlich ein zum Schnupper- und Kennenlerntermin auf der Promenade im Südstadtpark. Egal ob ihr schon Erfahrung habt oder einfach mal ausprobieren wollt\, worin der Reiz dieses Spiels liegt – alle sind willkommen! Kugeln sind für den Anfang vorhanden\, ihr braucht also nichts mitzubringen außer ein bisschen Neugier und gute Laune. \nFalls es an dem Tag in Strömen regnet oder ihr verhindert seid\, schreibt uns einfach eine kurze E-Mail an boule@a-werth.de.\nDann melden wir uns mit einem neuen Termin. \nWir freuen uns auf einen schönen\, entspannten Nachmittag mit vielen netten Begegnungen\, guten Gesprächen – und vielleicht der einen oder anderen spannenden Boule-Partie. \nKommt vorbei\, spielt mit – und lasst uns gemeinsam die Südstadt zum Boule-Treff machen! \nText: Thomas Altenwerth
URL:https://suedstadt-liebe.de/termin/boule-im-uelleberg-park/2025-11-15/
END:VEVENT
BEGIN:VEVENT
DTSTART;TZID=Europe/Berlin:20251119T183000
DTEND;TZID=Europe/Berlin:20251119T210000
DTSTAMP:20260423T042708
CREATED:20251002T101842Z
LAST-MODIFIED:20251002T102547Z
UID:10000068-1763577000-1763586000@suedstadt-liebe.de
SUMMARY:Martinsgansessen - ANMELDUNG ERFORDERLICH
DESCRIPTION:Einladung\nLiebe Mitglieder\, sehr geehrte Damen und Herren\, \nunser traditionsreiches Martinsgansessen findet in diesem Jahr am Mittwoch\, dem 19. November 2025 um 18.30 Uhr im Restaurant „Pinocchio“ in bewährtem Ambiente und fröhlicher Runde statt. \nDa die Teilnehmerzahl in dem bekannten Rahmen begrenzt ist\, bitten wir um rechtzeitige telefonische Anmeldung bei Herrn Dickmann\, 0171 – 20 46 975 (jederzeit).\nAlternativ können Sie sich auch unter mi.dickmann@t-online.de anmelden. \nBei Überbuchungen wird die Reihenfolge der Anmeldungen berücksichtigt. \nDer voraussichtliche Preis für die Martinsgans wird ca. 32\,00 € betragen. \nTeilen Sie uns bitte mit\, ob Sie den geselligen Teil mit Beiträgen mit gestalten möchten. Ihre Ideen sind herzlich willkommen! \nWir freuen uns auf einen gelungenen Abend mit guten Gesprächen und bester Laune.\nBringen Sie Gäste\, Nachbarn\, Freunde mit\, wir freuen uns über jeden neuen Interessenten. \nIch bitte freundlichst um Beachtung folgender Änderung: Es ist diesmal aus logistischen Gründen ein Mittwoch statt Montag.\nVielleicht hat es auch den sehr willkommenen Effekt\, dass sich mehr Interessenten melden. \nMit freundlichen Grüssen\nIhr Bürgerverein der Elberfelder Südstadt e.V.
URL:https://suedstadt-liebe.de/termin/martinsgansessen-2025/
LOCATION:Pinocchio\, Holzer Str. 39\, Wuppertal\, 42119
END:VEVENT
BEGIN:VEVENT
DTSTART;TZID=Europe/Berlin:20251130T183000
DTEND;TZID=Europe/Berlin:20251130T190000
DTSTAMP:20260423T042708
CREATED:20251002T102636Z
LAST-MODIFIED:20251002T104009Z
UID:10000069-1764527400-1764529200@suedstadt-liebe.de
SUMMARY:Adventsfenster'25 in der Südstadt
DESCRIPTION:Fast jeden Abend treffen wir uns bei Wind und Wetter um 18:30 Uhr vor einem anderen geschmückten Fenster.\nGönnen wir uns eine halbe Stunde in unserem oft stressigen Alltag und stimmen uns mit einem Lied\, einem Gedicht oder einer Geschichte auf Advent und Weihnachten ein.\n \nAnschließend gibt es heiße Getränke und Gebäck – bitte bringen Sie einen Becher mit. \nBitte entnehmen Sie den Treffpunkt aus den aufgelisteten Adressen: \nSo. 30.11. Johanneskirche\, Altenberger Straße 25\nMo. 1.12. Familie Schliephake\, Augustastraße 28\nDi. 2.12. Kath. Bücherei St. Suitbertus\, Chlodwigstraße 27\nMi. 3.12. Kath. Kirchengemeinde St. Hedwig\, Am Friedenshain 30\nDo. 4.12. Ev. Kita Küllenhahner Straße\, Küllenhahner Straße 11\nFr. 5.12. Familien Meier und Schmücker\, Faunaweg 12\nSa. 6.12. Familie Bongs\, Am Wolfshahn 24\n \nSo. 7.12. Permakulturhof\, Dorner Weg 6A\, 17.30 Uhr\nMo. 8.12. Familien Petz und Baurmann\, Jägerhofstraße 223\nDi. 9.12. Familie Peters \, Worringer Straße 60\nMi. 10.12. Familien Henne\, Geisler u. Sonnenschein\, Worringer Straße 84\nDo. 11.12. Kath. Kita St. Suitbertus\, Weststraße 112\, 17 Uhr\nFr. 12.12. Familie Claßen\, Küllenhahner Straße 15\nSa. 13.12. Familie Dücoffre-Weiß\, Jägerhofstraße 144\n \nSo. 14.12. Hilfeladen\, Mainzer Straße 5\nMo. 15.12. Familie Rottmann\, Karl-Theodor-Straße 48\nDi. 16.12. Hospizdienst „Die Pusteblume“\, Blankstraße 41\nMi. 17.12. Familie Luhmann und Nachbarn\, Karl-Theodor-Str. 20\nDo. 18.12. Familien Holtemeier u. Kozik\, Blankstraße 5c/Hochhaus\nFr. 19.12. Familie Krohm\, Wilhelmring 114\n \nSo. 21.12. Familie Süßenbach\, Worringer Straße 59\nMo. 22.12. Familie Coso\, Vorm Eichholz 4\nDi. 23.12. Christuskirche\, Unterer Grifflenberg 65
URL:https://suedstadt-liebe.de/termin/adventsfenster25-in-der-suedstadt/2025-11-30/
END:VEVENT
END:VCALENDAR