BEGIN:VCALENDAR
VERSION:2.0
PRODID:-//Südstadt Liebe - ECPv6.15.20//NONSGML v1.0//EN
CALSCALE:GREGORIAN
METHOD:PUBLISH
X-ORIGINAL-URL:https://suedstadt-liebe.de
X-WR-CALDESC:Veranstaltungen für Südstadt Liebe
REFRESH-INTERVAL;VALUE=DURATION:PT1H
X-Robots-Tag:noindex
X-PUBLISHED-TTL:PT1H
BEGIN:VTIMEZONE
TZID:Europe/Berlin
BEGIN:DAYLIGHT
TZOFFSETFROM:+0100
TZOFFSETTO:+0200
TZNAME:CEST
DTSTART:20240331T010000
END:DAYLIGHT
BEGIN:STANDARD
TZOFFSETFROM:+0200
TZOFFSETTO:+0100
TZNAME:CET
DTSTART:20241027T010000
END:STANDARD
BEGIN:DAYLIGHT
TZOFFSETFROM:+0100
TZOFFSETTO:+0200
TZNAME:CEST
DTSTART:20250330T010000
END:DAYLIGHT
BEGIN:STANDARD
TZOFFSETFROM:+0200
TZOFFSETTO:+0100
TZNAME:CET
DTSTART:20251026T010000
END:STANDARD
BEGIN:DAYLIGHT
TZOFFSETFROM:+0100
TZOFFSETTO:+0200
TZNAME:CEST
DTSTART:20260329T010000
END:DAYLIGHT
BEGIN:STANDARD
TZOFFSETFROM:+0200
TZOFFSETTO:+0100
TZNAME:CET
DTSTART:20261025T010000
END:STANDARD
END:VTIMEZONE
BEGIN:VEVENT
DTSTART;TZID=Europe/Berlin:20251222T183000
DTEND;TZID=Europe/Berlin:20251222T190000
DTSTAMP:20260423T005149
CREATED:20251002T102636Z
LAST-MODIFIED:20251002T104009Z
UID:10000090-1766428200-1766430000@suedstadt-liebe.de
SUMMARY:Adventsfenster'25 in der Südstadt
DESCRIPTION:Fast jeden Abend treffen wir uns bei Wind und Wetter um 18:30 Uhr vor einem anderen geschmückten Fenster.\nGönnen wir uns eine halbe Stunde in unserem oft stressigen Alltag und stimmen uns mit einem Lied\, einem Gedicht oder einer Geschichte auf Advent und Weihnachten ein.\n \nAnschließend gibt es heiße Getränke und Gebäck – bitte bringen Sie einen Becher mit. \nBitte entnehmen Sie den Treffpunkt aus den aufgelisteten Adressen: \nSo. 30.11. Johanneskirche\, Altenberger Straße 25\nMo. 1.12. Familie Schliephake\, Augustastraße 28\nDi. 2.12. Kath. Bücherei St. Suitbertus\, Chlodwigstraße 27\nMi. 3.12. Kath. Kirchengemeinde St. Hedwig\, Am Friedenshain 30\nDo. 4.12. Ev. Kita Küllenhahner Straße\, Küllenhahner Straße 11\nFr. 5.12. Familien Meier und Schmücker\, Faunaweg 12\nSa. 6.12. Familie Bongs\, Am Wolfshahn 24\n \nSo. 7.12. Permakulturhof\, Dorner Weg 6A\, 17.30 Uhr\nMo. 8.12. Familien Petz und Baurmann\, Jägerhofstraße 223\nDi. 9.12. Familie Peters \, Worringer Straße 60\nMi. 10.12. Familien Henne\, Geisler u. Sonnenschein\, Worringer Straße 84\nDo. 11.12. Kath. Kita St. Suitbertus\, Weststraße 112\, 17 Uhr\nFr. 12.12. Familie Claßen\, Küllenhahner Straße 15\nSa. 13.12. Familie Dücoffre-Weiß\, Jägerhofstraße 144\n \nSo. 14.12. Hilfeladen\, Mainzer Straße 5\nMo. 15.12. Familie Rottmann\, Karl-Theodor-Straße 48\nDi. 16.12. Hospizdienst „Die Pusteblume“\, Blankstraße 41\nMi. 17.12. Familie Luhmann und Nachbarn\, Karl-Theodor-Str. 20\nDo. 18.12. Familien Holtemeier u. Kozik\, Blankstraße 5c/Hochhaus\nFr. 19.12. Familie Krohm\, Wilhelmring 114\n \nSo. 21.12. Familie Süßenbach\, Worringer Straße 59\nMo. 22.12. Familie Coso\, Vorm Eichholz 4\nDi. 23.12. Christuskirche\, Unterer Grifflenberg 65
URL:https://suedstadt-liebe.de/termin/adventsfenster25-in-der-suedstadt/2025-12-22/
END:VEVENT
END:VCALENDAR