BEGIN:VCALENDAR
VERSION:2.0
PRODID:-//Südstadt Liebe - ECPv6.15.20//NONSGML v1.0//EN
CALSCALE:GREGORIAN
METHOD:PUBLISH
X-ORIGINAL-URL:https://suedstadt-liebe.de
X-WR-CALDESC:Veranstaltungen für Südstadt Liebe
REFRESH-INTERVAL;VALUE=DURATION:PT1H
X-Robots-Tag:noindex
X-PUBLISHED-TTL:PT1H
BEGIN:VTIMEZONE
TZID:Europe/Berlin
BEGIN:DAYLIGHT
TZOFFSETFROM:+0100
TZOFFSETTO:+0200
TZNAME:CEST
DTSTART:20240331T010000
END:DAYLIGHT
BEGIN:STANDARD
TZOFFSETFROM:+0200
TZOFFSETTO:+0100
TZNAME:CET
DTSTART:20241027T010000
END:STANDARD
BEGIN:DAYLIGHT
TZOFFSETFROM:+0100
TZOFFSETTO:+0200
TZNAME:CEST
DTSTART:20250330T010000
END:DAYLIGHT
BEGIN:STANDARD
TZOFFSETFROM:+0200
TZOFFSETTO:+0100
TZNAME:CET
DTSTART:20251026T010000
END:STANDARD
BEGIN:DAYLIGHT
TZOFFSETFROM:+0100
TZOFFSETTO:+0200
TZNAME:CEST
DTSTART:20260329T010000
END:DAYLIGHT
BEGIN:STANDARD
TZOFFSETFROM:+0200
TZOFFSETTO:+0100
TZNAME:CET
DTSTART:20261025T010000
END:STANDARD
END:VTIMEZONE
BEGIN:VEVENT
DTSTART;TZID=Europe/Berlin:20251119T183000
DTEND;TZID=Europe/Berlin:20251119T210000
DTSTAMP:20260423T005253
CREATED:20251002T101842Z
LAST-MODIFIED:20251002T102547Z
UID:10000068-1763577000-1763586000@suedstadt-liebe.de
SUMMARY:Martinsgansessen - ANMELDUNG ERFORDERLICH
DESCRIPTION:Einladung\nLiebe Mitglieder\, sehr geehrte Damen und Herren\, \nunser traditionsreiches Martinsgansessen findet in diesem Jahr am Mittwoch\, dem 19. November 2025 um 18.30 Uhr im Restaurant „Pinocchio“ in bewährtem Ambiente und fröhlicher Runde statt. \nDa die Teilnehmerzahl in dem bekannten Rahmen begrenzt ist\, bitten wir um rechtzeitige telefonische Anmeldung bei Herrn Dickmann\, 0171 – 20 46 975 (jederzeit).\nAlternativ können Sie sich auch unter mi.dickmann@t-online.de anmelden. \nBei Überbuchungen wird die Reihenfolge der Anmeldungen berücksichtigt. \nDer voraussichtliche Preis für die Martinsgans wird ca. 32\,00 € betragen. \nTeilen Sie uns bitte mit\, ob Sie den geselligen Teil mit Beiträgen mit gestalten möchten. Ihre Ideen sind herzlich willkommen! \nWir freuen uns auf einen gelungenen Abend mit guten Gesprächen und bester Laune.\nBringen Sie Gäste\, Nachbarn\, Freunde mit\, wir freuen uns über jeden neuen Interessenten. \nIch bitte freundlichst um Beachtung folgender Änderung: Es ist diesmal aus logistischen Gründen ein Mittwoch statt Montag.\nVielleicht hat es auch den sehr willkommenen Effekt\, dass sich mehr Interessenten melden. \nMit freundlichen Grüssen\nIhr Bürgerverein der Elberfelder Südstadt e.V.
URL:https://suedstadt-liebe.de/termin/martinsgansessen-2025/
LOCATION:Pinocchio\, Holzer Str. 39\, Wuppertal\, 42119
END:VEVENT
END:VCALENDAR