BEGIN:VCALENDAR
VERSION:2.0
PRODID:-//Südstadt Liebe - ECPv6.15.20//NONSGML v1.0//EN
CALSCALE:GREGORIAN
METHOD:PUBLISH
X-WR-CALNAME:Südstadt Liebe
X-ORIGINAL-URL:https://suedstadt-liebe.de
X-WR-CALDESC:Veranstaltungen für Südstadt Liebe
REFRESH-INTERVAL;VALUE=DURATION:PT1H
X-Robots-Tag:noindex
X-PUBLISHED-TTL:PT1H
BEGIN:VTIMEZONE
TZID:Europe/Berlin
BEGIN:DAYLIGHT
TZOFFSETFROM:+0100
TZOFFSETTO:+0200
TZNAME:CEST
DTSTART:20240331T010000
END:DAYLIGHT
BEGIN:STANDARD
TZOFFSETFROM:+0200
TZOFFSETTO:+0100
TZNAME:CET
DTSTART:20241027T010000
END:STANDARD
BEGIN:DAYLIGHT
TZOFFSETFROM:+0100
TZOFFSETTO:+0200
TZNAME:CEST
DTSTART:20250330T010000
END:DAYLIGHT
BEGIN:STANDARD
TZOFFSETFROM:+0200
TZOFFSETTO:+0100
TZNAME:CET
DTSTART:20251026T010000
END:STANDARD
BEGIN:DAYLIGHT
TZOFFSETFROM:+0100
TZOFFSETTO:+0200
TZNAME:CEST
DTSTART:20260329T010000
END:DAYLIGHT
BEGIN:STANDARD
TZOFFSETFROM:+0200
TZOFFSETTO:+0100
TZNAME:CET
DTSTART:20261025T010000
END:STANDARD
END:VTIMEZONE
BEGIN:VEVENT
DTSTART;TZID=Europe/Berlin:20250928T110000
DTEND;TZID=Europe/Berlin:20250928T150000
DTSTAMP:20260423T092817
CREATED:20250322T115512Z
LAST-MODIFIED:20250322T115512Z
UID:10000064-1759057200-1759071600@suedstadt-liebe.de
SUMMARY:Matinee-Veranstaltung im Netzwerkcafé der Pusteblume
DESCRIPTION:Matinee-Veranstaltung im Netzwerkcafé der Pusteblume \nVorab möchten wir Sie auf die weitere Matinee-Veranstaltung im Herbst in der Pusteblume hinweisen: \nTermin: 28.09.2025 um 11:00 Uhr \nGeschichten\, die das Leben schreibt \nLesung mit musikalischer Begleitung \nDie Schreibwerkstatt der börse liest vor: Erlebtes und Erdachtes über das Leben in Form von Prosa\, Gedichten und Rondellen \nDie Schreibwerkstatt wurde 2021 von Karin Böke und Lothar Jessen im Rahmen des Stadtteilschreiberprojektes an der börse ins Leben gerufen.\nSeitdem treffen sich die Teilnehmer:innen regelmäßig\, um über diverse Themen\, die sie bewegen\, zu schreiben und sich darüber auszutauschen.\nDie Liebe zum geschriebenen Wort in seiner unendlichen Kombinationsvielfalt vereint sie. \nDa ich in der Schreibwerkstatt mitmache und am 28. September mit diversen Texten dabei sein werde\, würde ich mich sehr freuen\, Sie im Netzwerkcafé der Pusteblume begrüßen zu dürfen.  \n\nDanielle Bouchet
URL:https://suedstadt-liebe.de/termin/matinee-veranstaltung-im-netzwerkcafe-der-pusteblume/
END:VEVENT
END:VCALENDAR