BEGIN:VCALENDAR
VERSION:2.0
PRODID:-//Südstadt Liebe - ECPv6.15.20//NONSGML v1.0//EN
CALSCALE:GREGORIAN
METHOD:PUBLISH
X-ORIGINAL-URL:https://suedstadt-liebe.de
X-WR-CALDESC:Veranstaltungen für Südstadt Liebe
REFRESH-INTERVAL;VALUE=DURATION:PT1H
X-Robots-Tag:noindex
X-PUBLISHED-TTL:PT1H
BEGIN:VTIMEZONE
TZID:Europe/Berlin
BEGIN:DAYLIGHT
TZOFFSETFROM:+0100
TZOFFSETTO:+0200
TZNAME:CEST
DTSTART:20240331T010000
END:DAYLIGHT
BEGIN:STANDARD
TZOFFSETFROM:+0200
TZOFFSETTO:+0100
TZNAME:CET
DTSTART:20241027T010000
END:STANDARD
BEGIN:DAYLIGHT
TZOFFSETFROM:+0100
TZOFFSETTO:+0200
TZNAME:CEST
DTSTART:20250330T010000
END:DAYLIGHT
BEGIN:STANDARD
TZOFFSETFROM:+0200
TZOFFSETTO:+0100
TZNAME:CET
DTSTART:20251026T010000
END:STANDARD
BEGIN:DAYLIGHT
TZOFFSETFROM:+0100
TZOFFSETTO:+0200
TZNAME:CEST
DTSTART:20260329T010000
END:DAYLIGHT
BEGIN:STANDARD
TZOFFSETFROM:+0200
TZOFFSETTO:+0100
TZNAME:CET
DTSTART:20261025T010000
END:STANDARD
END:VTIMEZONE
BEGIN:VEVENT
DTSTART;TZID=Europe/Berlin:20250527T180000
DTEND;TZID=Europe/Berlin:20250527T200000
DTSTAMP:20260423T140800
CREATED:20250225T105016Z
LAST-MODIFIED:20250225T105016Z
UID:10000059-1748368800-1748376000@suedstadt-liebe.de
SUMMARY:Schul- und Chorkonzert der Grundschule Reichsgrafenstraße
DESCRIPTION:Eintritt frei. Um Spenden am Ausgang wird gebeten.\n27.05.2025\, ab 18.00 Uhr in der Christuskirche\, Unterer Grifflenberg 65\, 42119 Wuppertal
URL:https://suedstadt-liebe.de/termin/schul-und-chorkonzert-der-grundschule-reichsgrafenstrasse/
END:VEVENT
END:VCALENDAR