BEGIN:VCALENDAR
VERSION:2.0
PRODID:-//Südstadt Liebe - ECPv6.15.20//NONSGML v1.0//EN
CALSCALE:GREGORIAN
METHOD:PUBLISH
X-WR-CALNAME:Südstadt Liebe
X-ORIGINAL-URL:https://suedstadt-liebe.de
X-WR-CALDESC:Veranstaltungen für Südstadt Liebe
REFRESH-INTERVAL;VALUE=DURATION:PT1H
X-Robots-Tag:noindex
X-PUBLISHED-TTL:PT1H
BEGIN:VTIMEZONE
TZID:Europe/Berlin
BEGIN:DAYLIGHT
TZOFFSETFROM:+0100
TZOFFSETTO:+0200
TZNAME:CEST
DTSTART:20230326T010000
END:DAYLIGHT
BEGIN:STANDARD
TZOFFSETFROM:+0200
TZOFFSETTO:+0100
TZNAME:CET
DTSTART:20231029T010000
END:STANDARD
BEGIN:DAYLIGHT
TZOFFSETFROM:+0100
TZOFFSETTO:+0200
TZNAME:CEST
DTSTART:20240331T010000
END:DAYLIGHT
BEGIN:STANDARD
TZOFFSETFROM:+0200
TZOFFSETTO:+0100
TZNAME:CET
DTSTART:20241027T010000
END:STANDARD
BEGIN:DAYLIGHT
TZOFFSETFROM:+0100
TZOFFSETTO:+0200
TZNAME:CEST
DTSTART:20250330T010000
END:DAYLIGHT
BEGIN:STANDARD
TZOFFSETFROM:+0200
TZOFFSETTO:+0100
TZNAME:CET
DTSTART:20251026T010000
END:STANDARD
END:VTIMEZONE
BEGIN:VEVENT
DTSTART;TZID=Europe/Berlin:20241218T183000
DTEND;TZID=Europe/Berlin:20241218T190000
DTSTAMP:20260424T102018
CREATED:20241202T115536Z
LAST-MODIFIED:20241202T115536Z
UID:10000041-1734546600-1734548400@suedstadt-liebe.de
SUMMARY:Adventsfenster'24 in der Südstadt
DESCRIPTION:Fast jeden Abend treffen wir uns bei Wind und Wetter um 18.30 Uhr vor einem anderen geschmückten Fenster.\nGönnen wir uns eine halbe Stunde in unserem oft stressigen Alltag und stimmen uns mit einem Lied\, einem Gedicht oder einer Geschichte auf Advent und Weihnachten ein.\n \nAnschließend gibt es heiße Getränke und Gebäck – bitte bringen Sie einen Becher mit. \nBitte entnehmen Sie den Treffpunkt aus den aufgelisteten Adressen: \nSo. 1.12. Johanneskirche\, Altenberger Straße 25\nDi. 3.12. Kita St. Hedwig (17.30 Uhr)\, Am Friedenshain 30\nMi. 4.12. Kath. Kirchengemeinde St. Hedwig\, Am Friedenshain 30\nDo. 5.12. Praxis am Küllenhahn (19 Uhr)\, Küllenhahner Straße 55\nFr. 6.12. Familie Rottmannn \, Karl-Theodor-Straße 48\nSa. 7.12. Familie Hüttig\, Am Friedenshain 22\nSo. 8.12. Familie Coso\, Vorm Eichholz 4\nMo. 9.12. Familien Petz und Baurmann\, Jägerhofstraße 223\nDi. 10.12. Hilfeladen\, Mainzer Straße 5\nMi. 11.12. Familie Peters \, Worringer Straße 60\nDo. 12.12. Familien Meier und Schmücker\, Faunaweg 12\nFr. 13.12. Familie Schulze\, Worringer Straße 86\nSa. 14.12. Familie Bongs\, Am Wolfshahn 24\nSo. 15.12. Café zum Johannesgruß\, Jägerhofstraße 2\nMo. 16.12. Familien Henne und Geisler\, Worringer Straße 84\nDi. 17.12. Hospizdienst „Die Pusteblume\, Blankstraße 41\nMi. 18.12. Familie Luhmann und Nachbarn\, Karl-Theodor-Str. 20\nDo. 19.12. Kretschmann/Valley Voices\, Wilhelmring 88\nFr. 20.12. Familie Staaden\, Worringer Straße 69\nSa. 21.12. Familie Heitkamp\, Kronprinzenallee 97\nMo. 23.12. Christuskirche\, Unterer Grifflenberg 65
URL:https://suedstadt-liebe.de/termin/adventsfenster24-in-der-suedstadt/2024-12-18/
END:VEVENT
END:VCALENDAR